BEGIN:VCALENDAR
VERSION:2.0
PRODID:-//Portes ouvertes - Appartement PPE 2025-11-C1-2222_W2.2-//FR
BEGIN:VEVENT
DTSTAMP:20260421T122316Z
DTSTART:20260425T100000
DTEND:20260425T140000
SUMMARY:Portes ouvertes - Appartement PPE 2025-11-C1-2222_W2.2-
DESCRIPTION:Portes ouvertes - Appartement PPE 2025-11-C1-2222_W2.2- - https://www.dreamo.ch/fr/o/acheter-appartement-ppe-berikon-5625083
LOCATION:Steinhügelstrasse 19, 8965 Berikon
END:VEVENT
END:VCALENDAR